BEGIN:VCALENDAR
VERSION:2.0
PRODID:icalendar-ruby
CALSCALE:GREGORIAN
METHOD:PUBLISH
BEGIN:VEVENT
DTSTAMP:20260423T155019Z
UID:20-329789@riversidechapel.tithelysetup2.com
DTSTART:20260726T160000Z
DTEND:20260726T170000Z
CLASS:PUBLIC
CREATED:20260423T085556
DESCRIPTION:Interested in taking the next step in your faith through baptis
 m? This class will walk you through what baptism means\, why it matters\, 
 and what to expect.\nWhether you're ready to be baptized or just want to l
 earn more\, this class is for you!\n What to Expect:• Biblical understan
 ding of baptism• Time for questions• Next steps for getting baptized\n
 If you plan to attend or want more information\, please contact Pastor Ben
 . 
LAST-MODIFIED:20260423T085556
LOCATION:Riverside Chapel 
SUMMARY:Baptism Class
URL;VALUE=URI:https://www.rcsalamanca.com/events/baptism-class/2026-07-26
ATTACH;FILENAME=Baptism-Class.png;FMTTYPE=image/png:https://dq5pwpg1q8ru0.c
 loudfront.net/2026/04/20/16/56/47/f558f1b2-75dd-4bc5-aa16-28322564795e/Bap
 tism-Class.png
END:VEVENT
END:VCALENDAR
