BEGIN:VCALENDAR
VERSION:2.0
PRODID:icalendar-ruby
CALSCALE:GREGORIAN
METHOD:PUBLISH
BEGIN:VEVENT
DTSTAMP:20260423T160958Z
UID:19-329786@riversidechapel.tithelysetup2.com
DTSTART:20260502T120000Z
DTEND:20260502T160000Z
CLASS:PUBLIC
CREATED:20260423T085523
DESCRIPTION: Spring Area Meeting – Western New York Riverside Chapel – 
 Salamanca\, NY Saturday\, May 2\, 2026 9:00 AM – 12:00 PM\nJoin us for a
  meaningful morning of encouragement\, learning\, and connection!\n Guest 
 Speaker: Nathanael Wayman\n Focus Topics:• Video &amp\; media presence i
 n the church• AI awareness• Personal devotions\n Location:Riverside Ch
 apel134 Broad StreetSalamanca\, NY 14779\nFor more information:Dennis Kutz
 ner – cmidennisecs.com\nCome ready to grow\, be equipped\, and connect w
 ith others in the region!
LAST-MODIFIED:20260423T085523
LOCATION:Riverside Chapel
SUMMARY:CMI Spring Area Meeting
URL;VALUE=URI:https://www.rcsalamanca.com/events/cmi-spring-area-meeting/20
 26-05-02
ATTACH;FILENAME=Copy-of-CMI-Instagram-Post-45.png;FMTTYPE=image/png:https:/
 /dq5pwpg1q8ru0.cloudfront.net/2026/04/20/16/51/37/467d119e-c4e5-4db1-93f4-
 c7dc9d1a161f/Copy-of-CMI-Instagram-Post-45.png
END:VEVENT
END:VCALENDAR
