BEGIN:VCALENDAR
VERSION:2.0
PRODID:icalendar-ruby
CALSCALE:GREGORIAN
METHOD:PUBLISH
BEGIN:VEVENT
DTSTAMP:20260423T160958Z
UID:18-329787@riversidechapel.tithelysetup2.com
DTSTART:20260509T140000Z
DTEND:20260509T160000Z
CLASS:PUBLIC
CREATED:20260423T085533
DESCRIPTION:Join us for a special Mother’s Day Brunch as we celebrate and
  honor the women in our lives. Enjoy a relaxed morning of food\, fellowshi
 p\, and encouragement. All are welcome—bring a friend or family member t
 o share in this meaningful time together! 
LAST-MODIFIED:20260423T085533
LOCATION:Riverside Chapel
SUMMARY:Mother's Day Brunch
URL;VALUE=URI:https://www.rcsalamanca.com/events/mothers-day-brunch/2026-05
 -09
ATTACH;FILENAME=Spring.jpeg;FMTTYPE=image/jpeg:https://dq5pwpg1q8ru0.cloudf
 ront.net/2026/04/20/16/38/45/26583c45-5ac4-4835-9677-6e9eff9b196c/Spring.j
 peg
END:VEVENT
END:VCALENDAR
