BEGIN:VCALENDAR
VERSION:2.0
PRODID:icalendar-ruby
CALSCALE:GREGORIAN
METHOD:PUBLISH
BEGIN:VEVENT
DTSTAMP:20260423T171344Z
UID:21-329785@riversidechapel.tithelysetup2.com
DTSTART:20260424T220000Z
DTEND:20260425T000000Z
CLASS:PUBLIC
CREATED:20260423T085345
DESCRIPTION: Movie Night at Riverside Chapel! \nWe’re inviting all kids a
 ges 6–12 to join us for a fun-filled evening watching 10 Lives! \n April
  24\, 2026 6:00–8:00 PM 134 Broad St.\, Salamanca\, NY\nBring your frien
 ds\, come ready to relax\, laugh\, and enjoy a great movie together! This 
 is a perfect night for kids to hang out in a safe\, welcoming environment.
 \nWe can’t wait to see you there! 
LAST-MODIFIED:20260423T085345
LOCATION:Riverside Chapel
SUMMARY:Movie Night
URL;VALUE=URI:https://www.rcsalamanca.com/events/movie-night/2026-04-24
ATTACH;FILENAME=9249.jpeg;FMTTYPE=image/jpeg:https://dq5pwpg1q8ru0.cloudfro
 nt.net/2026/04/23/12/53/45/ae06e973-a4d2-4a96-b0f2-ec76fd197268/9249.jpeg
END:VEVENT
END:VCALENDAR
