BEGIN:VCALENDAR
VERSION:2.0
PRODID:icalendar-ruby
CALSCALE:GREGORIAN
METHOD:PUBLISH
BEGIN:VEVENT
DTSTAMP:20260423T155636Z
UID:17-329788@riversidechapel.tithelysetup2.com
DTSTART:20260713T120000Z
DTEND:20260717T130000Z
CLASS:PUBLIC
CREATED:20260423T085542
DESCRIPTION:Howdy\, partners! Get ready for an unforgettable Old West adven
 ture at Wonder Junction VBS! Kids will marvel at Jesus—the Creator of th
 e universe—as they explore His birth\, ministry\, death\, and resurrecti
 on. Through exciting lessons\, songs\, and games\, children will be challe
 nged to live for His glory while uncovering the greatest wonder of all. 
LAST-MODIFIED:20260423T085542
LOCATION:Riverside Chapel
SUMMARY:VBS 2026
URL;VALUE=URI:https://www.rcsalamanca.com/events/vbs-2026/2026-07-13
ATTACH;FILENAME=wonder-junction-vbs-mobile-header.jpg;FMTTYPE=image/jpeg:ht
 tps://dq5pwpg1q8ru0.cloudfront.net/2026/04/14/11/44/10/a482a92b-4f01-451b-
 a0ec-8a15fb2250ad/wonder-junction-vbs-mobile-header.jpg
END:VEVENT
END:VCALENDAR
